BEGIN:VCALENDAR
PRODID:-//github.com/rianjs/ical.net//NONSGML ical.net 4.0//EN
VERSION:2.0
BEGIN:VEVENT
DESCRIPTION:Bei der Codierung wird das Fahrrad mit einem individuellen Cod
 e versehen\, der in verschlüsselter Form die Adresse und die Initialen de
 s Eigentümers/ der Eigentümerin enthält. Anmeldung bis 07.05.\nhttps://to
 uren-termine.adfc.de/radveranstaltung/195676-fahrradcodieraktion-auftaktt
 our-zum-stadtradeln
DTEND:20260507T190000Z
DTSTAMP:20260421T054310Z
DTSTART:20260507T160000Z
LOCATION:Stadeum\, Schiffertorsstraße 6\, 21682 Stade
SEQUENCE:0
SUMMARY:Fahrrad-Codieraktion @ Auftakttour zum Stadtradeln
UID:b1e74dc3-76f7-4945-83a4-fafd9a5a4db7
URL:https://touren-termine.adfc.de/radveranstaltung/195676-fahrradcodierak
 tion-auftakttour-zum-stadtradeln
END:VEVENT
END:VCALENDAR
