BEGIN:VCALENDAR
PRODID:-//github.com/rianjs/ical.net//NONSGML ical.net 4.0//EN
VERSION:2.0
BEGIN:VEVENT
DESCRIPTION:Durchs idyllische Ostertal aufs Viadukt in Oberkirchen\, über 
 Freisen und den Bahnradweg zum Bostalsee\, zurück über den Wendelinusradw
 eg\nhttps://touren-termine.adfc.de/radveranstaltung/194700-fast-immer-der
 -bahn-entlang
DTEND:20260712T150000Z
DTSTAMP:20260421T113613Z
DTSTART:20260712T080000Z
LOCATION:Platz der Kinderrechte in der Mott\, 66606 Sankt Wendel
SEQUENCE:0
SUMMARY:(Fast) immer der Bahn entlang
UID:1b5c3b04-1b7c-4173-a6a6-cfae27968a43
URL:https://touren-termine.adfc.de/radveranstaltung/194700-fast-immer-der-
 bahn-entlang
END:VEVENT
END:VCALENDAR
