BEGIN:VCALENDAR
PRODID:-//github.com/rianjs/ical.net//NONSGML ical.net 4.0//EN
VERSION:2.0
BEGIN:VEVENT
DESCRIPTION:Wofür bedarf es den Vorfluter Süd\, der in den Rhein mündet.\n
 https://touren-termine.adfc.de/radveranstaltung/194954-am-kolner-randkana
 l-vorfluter-sud-rhein
DTEND:20260408T160000Z
DTSTAMP:20260423T151723Z
DTSTART:20260408T120000Z
LOCATION:Rudolfplatz 1\, 50674 Köln
SEQUENCE:0
SUMMARY:Am Kölner Randkanal - Vorfluter Süd / Rhein
UID:7b4e9862-a3b8-4e3d-83db-e452b209f268
URL:https://touren-termine.adfc.de/radveranstaltung/194954-am-kolner-randk
 anal-vorfluter-sud-rhein
END:VEVENT
END:VCALENDAR
