BEGIN:VCALENDAR
PRODID:-//github.com/rianjs/ical.net//NONSGML ical.net 4.0//EN
VERSION:2.0
BEGIN:VEVENT
DESCRIPTION:3. Sternfahrt des ADFC Siegen-Wittgenstein nach Volkholz\nhttp
 s://touren-termine.adfc.de/radveranstaltung/138226-3-sternfahrt-siwi-nach
 -volkholz-start-siegen
DTEND:20240908T170000Z
DTSTAMP:20260423T030708Z
DTSTART:20240908T080000Z
LOCATION:Jakob-Scheiner-Platz\, 57072 Siegen
SEQUENCE:0
SUMMARY:3. Sternfahrt SiWi nach Volkholz\, Start Siegen
UID:d085b293-6e01-4c84-9e38-b4a7edc7d596
URL:https://touren-termine.adfc.de/radveranstaltung/138226-3-sternfahrt-si
 wi-nach-volkholz-start-siegen
END:VEVENT
END:VCALENDAR
