BEGIN:VCALENDAR
PRODID:-//github.com/rianjs/ical.net//NONSGML ical.net 4.0//EN
VERSION:2.0
BEGIN:VEVENT
DESCRIPTION:Eine Wanderung von und nach Hohenleipisch durch das NSG der Lo
 ben\, die Weite der Heidelandschaft und zu den Sandsteinfelsen an einem S
 ee. Mit Anmeldung\, keine Einkehr nur Picknick.\nhttps://touren-termine.a
 dfc.de/radveranstaltung/193901-wanderung-der-loben-heide-und-sandstein
DTEND:20260314T180500Z
DTSTAMP:20260424T190302Z
DTSTART:20260314T074500Z
LOCATION:Bhf Südkreuz\, Ringbahnsteig\, 10829 Berlin
SEQUENCE:0
SUMMARY:Wanderung: Der Loben\, Heide und Sandstein
UID:46bf4fd4-66c7-4933-aae3-f077e1176612
URL:https://touren-termine.adfc.de/radveranstaltung/193901-wanderung-der-l
 oben-heide-und-sandstein
END:VEVENT
END:VCALENDAR
