BEGIN:VCALENDAR
PRODID:-//github.com/rianjs/ical.net//NONSGML ical.net 4.0//EN
VERSION:2.0
BEGIN:VEVENT
DESCRIPTION:Pedalieren und Pasta\nMit dem Fahrrad durch Italien\nhttps://t
 ouren-termine.adfc.de/radveranstaltung/138870-la-dolce-bicicletta
DTEND:20240916T190000Z
DTSTAMP:20260423T031044Z
DTSTART:20240916T173000Z
LOCATION:Marktplatz 2\, 57319 Bad Berleburg
SEQUENCE:0
SUMMARY:La Dolce Bicicletta
UID:df5943f0-e6ff-4cba-9373-75ffc77063de
URL:https://touren-termine.adfc.de/radveranstaltung/138870-la-dolce-bicicl
 etta
END:VEVENT
END:VCALENDAR
