BEGIN:VCALENDAR
PRODID:-//github.com/rianjs/ical.net//NONSGML ical.net 4.0//EN
VERSION:2.0
BEGIN:VEVENT
DESCRIPTION:Von Geislingen nach Schorndorf mal nicht an der Fils und dann 
 über den Berg\nhttps://touren-termine.adfc.de/radveranstaltung/102412-rad
 tour-von-geislingensteige-nach-schorndorf
DTEND:20230730T160000Z
DTSTAMP:20260424T144240Z
DTSTART:20230730T073000Z
LOCATION:Kegelenstraße 12\, 70372 Stuttgart
SEQUENCE:0
SUMMARY:Radtour von Geislingen/Steige nach Schorndorf
UID:3a17e82f-c7d7-4b80-bd4f-5da331cc0dbf
URL:https://touren-termine.adfc.de/radveranstaltung/102412-radtour-von-gei
 slingensteige-nach-schorndorf
END:VEVENT
END:VCALENDAR
