BEGIN:VCALENDAR
PRODID:-//github.com/rianjs/ical.net//NONSGML ical.net 4.0//EN
VERSION:2.0
BEGIN:VEVENT
DESCRIPTION:Mit dem Fahrradanhänger des Vereins geht es in PKW-Fahrgemeins
 chaft zum Parkplatz bei Overrath.\nDort starten wir in das Naturschutzgeb
 iet.\nhttps://touren-termine.adfc.de/radveranstaltung/189115-durch-das-na
 afbachtal-naturschutzgebiet
DTEND:20260816T160000Z
DTSTAMP:20260423T101708Z
DTSTART:20260816T060000Z
LOCATION:Geschwister-Scholl-Straße 69c (ALDI)\, 40789 Monheim am Rhein
SEQUENCE:0
SUMMARY:Durch das Naafbachtal Naturschutzgebiet
UID:1abe1ca9-776c-45b8-9ce3-ec1e5e3a3601
URL:https://touren-termine.adfc.de/radveranstaltung/189115-durch-das-naafb
 achtal-naturschutzgebiet
END:VEVENT
END:VCALENDAR
