BEGIN:VCALENDAR
PRODID:-//github.com/rianjs/ical.net//NONSGML ical.net 4.0//EN
VERSION:2.0
BEGIN:VEVENT
DESCRIPTION:Mehr Sicherheit für den Radverkehr durch StVO konforme Seitena
 bstände beim Überholen durch Kraftfahrzeuge\nhttps://touren-termine.adfc.
 de/radveranstaltung/117234-projektgruppe-openbikesensor
DTEND:20240108T190000Z
DTSTAMP:20260420T230639Z
DTSTART:20240108T173000Z
LOCATION:Koppel 34-36\, 20099 Hamburg
SEQUENCE:0
SUMMARY:Projektgruppe OpenBikeSensor
UID:9f2b4fa2-c05f-40bf-8832-4badae3904bf
URL:https://touren-termine.adfc.de/radveranstaltung/117234-projektgruppe-o
 penbikesensor
END:VEVENT
END:VCALENDAR
