BEGIN:VCALENDAR
PRODID:-//github.com/rianjs/ical.net//NONSGML ical.net 4.0//EN
VERSION:2.0
BEGIN:VEVENT
DESCRIPTION:Radfahrer*innen treffen sich anscheinend zufällig und unorgani
 siert.\nhttps://touren-termine.adfc.de/radveranstaltung/135955-critical-m
 ass-hamburg
DTEND:20240726T200000Z
DTSTAMP:20260420T230744Z
DTSTART:20240726T170000Z
LOCATION:Domplatz\, 20099 Hamburg
SEQUENCE:0
SUMMARY:Critical Mass Hamburg
UID:15b43cbc-103d-412a-9348-a98404aae3a8
URL:https://touren-termine.adfc.de/radveranstaltung/135955-critical-mass-h
 amburg
END:VEVENT
END:VCALENDAR
