BEGIN:VCALENDAR
PRODID:-//github.com/rianjs/ical.net//NONSGML ical.net 4.0//EN
VERSION:2.0
BEGIN:VEVENT
DESCRIPTION:Permeringer Hof\nhttps://touren-termine.adfc.de/radveranstaltu
 ng/180654-10-jahre-og-isental
DTEND:20260725T150000Z
DTSTAMP:20260420T082840Z
DTSTART:20260725T100000Z
LOCATION:undefined 7\, 84416 Taufkirchen
SEQUENCE:0
SUMMARY:10 Jahre OG Isental
UID:c409a635-2101-4c65-9585-05e2aedd8f32
URL:https://touren-termine.adfc.de/radveranstaltung/180654-10-jahre-og-ise
 ntal
END:VEVENT
END:VCALENDAR
