BEGIN:VCALENDAR
PRODID:-//github.com/rianjs/ical.net//NONSGML ical.net 4.0//EN
VERSION:2.0
BEGIN:VEVENT
DESCRIPTION:>>>> Tour ist abgesagt!!! Radtour zur Kunst in der List - mit 
 anschließender Einkehr. - Bitte anmelden!\nhttps://touren-termine.adfc.de
 /radveranstaltung/169180-abgesagt-kunstraum-j3fm-radtour-vernissage
DTEND:20250919T193000Z
DTSTAMP:20260424T173211Z
DTSTART:20250919T153000Z
LOCATION:Zwischen Post und Rathaus\, Marktplatz 1\, 30853 Langenhagen
SEQUENCE:0
SUMMARY:Abgesagt! "Kunstraum j3fm": Radtour VernissageⓇⓈ
UID:0b4bd135-735b-42c8-8ae1-db31a9a13796
URL:https://touren-termine.adfc.de/radveranstaltung/169180-abgesagt-kunstr
 aum-j3fm-radtour-vernissage
END:VEVENT
END:VCALENDAR
