BEGIN:VCALENDAR
PRODID:-//github.com/rianjs/ical.net//NONSGML ical.net 4.0//EN
VERSION:2.0
BEGIN:VEVENT
DESCRIPTION:Im Wonnemonat Mai genießen wir auf einer gemütlichen Fahrradto
 ur die Blütenpracht im Rhododendronpark Gristede.\nhttps://touren-termine
 .adfc.de/radveranstaltung/192533-rhodopark-gristede
DTEND:20260530T150000Z
DTSTAMP:20260421T100926Z
DTSTART:20260530T080000Z
LOCATION:Ziegelhofstraße 97\, 26121 Oldenburg
SEQUENCE:0
SUMMARY:Rhodopark Gristede
UID:ca3eb7d1-5b0c-4e42-9619-9afbc7c00c7a
URL:https://touren-termine.adfc.de/radveranstaltung/192533-rhodopark-grist
 ede
END:VEVENT
END:VCALENDAR
