BEGIN:VCALENDAR
PRODID:-//github.com/rianjs/ical.net//NONSGML ical.net 4.0//EN
VERSION:2.0
BEGIN:VEVENT
DESCRIPTION:Wir fahren in Fahrgemeinschaften ins Alpenland. Auch im Voralp
 enland und im 5 Seengebiet sind ebenso Touren möglich.\nTourenbeschreibun
 g wird bei der Anmeldung bekannt gegeben\nhttps://touren-termine.adfc.de/
 radveranstaltung/120573-mtbbergtour-nach-wahl
DTEND:20240502T160000Z
DTSTAMP:20260425T150637Z
DTSTART:20240502T063000Z
LOCATION:Carolinenstraße 1a am Maibaum\, 82319 Söcking\, 82319 Starnberg
SEQUENCE:0
SUMMARY:MTB-Bergtour nach Wahl
UID:0942f9ef-8cc9-4a2b-bbf0-c303525efebd
URL:https://touren-termine.adfc.de/radveranstaltung/120573-mtbbergtour-nac
 h-wahl
END:VEVENT
END:VCALENDAR
