BEGIN:VCALENDAR
PRODID:-//github.com/rianjs/ical.net//NONSGML ical.net 4.0//EN
VERSION:2.0
BEGIN:VEVENT
DESCRIPTION:Der Bezirksrat des ADFC Berlin e.V.  ist ein Gremium zur Koord
 inierung für die Tätigkeit der Stadtteilgruppen.\nhttps://touren-termine.
 adfc.de/radveranstaltung/189753-bezirksratssitzung
DTEND:20261022T190000Z
DTSTAMP:20260424T173351Z
DTSTART:20261022T170000Z
LOCATION:Stadtwerkstatt\, Karl-Liebknecht-Straße 11\, 10178 Berlin
SEQUENCE:0
SUMMARY:Bezirksratssitzung
UID:4ba268db-0b51-4339-929f-0b5ff8e2cf55
URL:https://touren-termine.adfc.de/radveranstaltung/189753-bezirksratssitz
 ung
END:VEVENT
END:VCALENDAR
