BEGIN:VCALENDAR
PRODID:-//github.com/rianjs/ical.net//NONSGML ical.net 4.0//EN
VERSION:2.0
BEGIN:VEVENT
DESCRIPTION:Radfahrer*innen treffen sich anscheinend zufällig und unorgani
 siert.\nhttps://touren-termine.adfc.de/radveranstaltung/168930-critical-m
 ass-hamburg
DTEND:20250725T200000Z
DTSTAMP:20260420T231010Z
DTSTART:20250725T170000Z
LOCATION:Elbberg\, 22767 Hamburg
SEQUENCE:0
SUMMARY:Critical Mass Hamburg
UID:78775d39-03e0-4074-bd06-c57086d882b3
URL:https://touren-termine.adfc.de/radveranstaltung/168930-critical-mass-h
 amburg
END:VEVENT
END:VCALENDAR
