BEGIN:VCALENDAR
PRODID:-//github.com/rianjs/ical.net//NONSGML ical.net 4.0//EN
VERSION:2.0
BEGIN:VEVENT
DESCRIPTION:Fahrradtour zum Sommeranfang von Rothenburg o.d.T. nach Kitzin
 gen. Dabei durchqueren wir mit unseren Rädern den Ochsenfurter Gau ... ei
 ne agrarisch geprägte Hochebene mit leicht hügeliger Landschaft.\nhttps:/
 /touren-termine.adfc.de/radveranstaltung/191137-drei-flusse-radtour-taube
 r-gollach-main
DTEND:20260621T170500Z
DTSTAMP:20260425T171512Z
DTSTART:20260621T050500Z
LOCATION:Nürnberg Hauptbahnhof\, Südeingang\, 90443 Nürnberg
SEQUENCE:0
SUMMARY:Drei - Flüsse - Radtour:  Tauber - Gollach - Main
UID:c8754fc5-85cc-4526-b907-29129fe01868
URL:https://touren-termine.adfc.de/radveranstaltung/191137-drei-flusse-rad
 tour-tauber-gollach-main
END:VEVENT
END:VCALENDAR
