BEGIN:VCALENDAR
PRODID:-//github.com/rianjs/ical.net//NONSGML ical.net 4.0//EN
VERSION:2.0
BEGIN:VEVENT
DESCRIPTION:50 km zum Mittellandkanal\nGBW via Flughafen - Regionstour 8 -
  Mittellandkanal - AWB-See\nhttps://touren-termine.adfc.de/radveranstaltu
 ng/163677-halbtagstour-50-km-zum-mittellandkanal
DTEND:20250426T160000Z
DTSTAMP:20260423T105822Z
DTSTART:20250426T120000Z
LOCATION:Fuhrberger Straße 4\, 30938 Burgwedel
SEQUENCE:0
SUMMARY:Halbtagstour (50 km) zum Mittellandkanal
UID:56cecfad-1a40-4728-a516-3dcf77d75a48
URL:https://touren-termine.adfc.de/radveranstaltung/163677-halbtagstour-50
 -km-zum-mittellandkanal
END:VEVENT
END:VCALENDAR
