BEGIN:VCALENDAR
PRODID:-//github.com/rianjs/ical.net//NONSGML ical.net 4.0//EN
VERSION:2.0
BEGIN:VEVENT
DESCRIPTION:Auf meist glatten\, verkehrsarmen Wegen durch traumhafte\, see
 nreiche Landschaften genießen wir die Ruhe und Schönheiten der Natur. In 
 Lindow picknicken wir oder kehren ein. Ende in Neuruppin.\nhttps://touren
 -termine.adfc.de/radveranstaltung/198639-eine-runde-um-neuruppin
DTEND:20260429T160000Z
DTSTAMP:20260424T112525Z
DTSTART:20260429T070500Z
LOCATION:Bhf. Berlin Gesundbrunnen\, Reisezentrum\, 13355 Berlin
SEQUENCE:0
SUMMARY:Eine Runde um Neuruppin
UID:8bbe8ad9-00c7-47ae-8999-142405277292
URL:https://touren-termine.adfc.de/radveranstaltung/198639-eine-runde-um-n
 euruppin
END:VEVENT
END:VCALENDAR
