BEGIN:VCALENDAR
PRODID:-//github.com/rianjs/ical.net//NONSGML ical.net 4.0//EN
VERSION:2.0
BEGIN:VEVENT
DESCRIPTION:Prasselndes Feuer taucht den Burghof in romantisches Licht. Üb
 erall duftet es adventlich. Handgefertigte Geschenke und kulinarische Kös
 tlichkeiten werden an liebevoll dekorierten Ständen dargeboten.\nhttps://
 touren-termine.adfc.de/radveranstaltung/173817-weihnachtsmarkt-auf-burg-w
 issemtroisdorf
DTEND:20251214T150000Z
DTSTAMP:20260423T153124Z
DTSTART:20251214T100000Z
LOCATION:Peter-Bürling-Platz\, 51427 Bergisch Gladbach
SEQUENCE:0
SUMMARY:Weihnachtsmarkt auf Burg Wissem/Troisdorf
UID:b1daa9fd-9281-475f-ab0a-3d5472460553
URL:https://touren-termine.adfc.de/radveranstaltung/173817-weihnachtsmarkt
 -auf-burg-wissemtroisdorf
END:VEVENT
END:VCALENDAR
