BEGIN:VCALENDAR
PRODID:-//github.com/rianjs/ical.net//NONSGML ical.net 4.0//EN
VERSION:2.0
BEGIN:VEVENT
DESCRIPTION:Wir schottern zum Feierabend um den Rahlstedt\nhttps://touren-
 termine.adfc.de/radveranstaltung/170750-rahlstedt-gravel-suite
DTEND:20250905T180000Z
DTSTAMP:20260420T231934Z
DTSTART:20250905T160000Z
LOCATION:Vor der Kreuzkirche Kedenburgstraße 14\, 22041 Hamburg
SEQUENCE:0
SUMMARY:Rahlstedt Gravel Suite
UID:ab24d651-f760-4743-bc07-b733d336ff3c
URL:https://touren-termine.adfc.de/radveranstaltung/170750-rahlstedt-grave
 l-suite
END:VEVENT
END:VCALENDAR
