BEGIN:VCALENDAR
PRODID:-//github.com/rianjs/ical.net//NONSGML ical.net 4.0//EN
VERSION:2.0
BEGIN:VEVENT
DESCRIPTION:Feierabendtouren in die nähere Umgebung\, Distanz 20 - 30 km\,
  oft mit Einkehr.\nhttps://touren-termine.adfc.de/radveranstaltung/187682
 -gilchinger-feierabendtour
DTEND:20260731T180000Z
DTSTAMP:20260425T145810Z
DTSTART:20260731T150000Z
LOCATION:Marktplatz\, 82205 Gilching
SEQUENCE:0
SUMMARY:Gilchinger Feierabendtour
UID:99993419-41f2-451f-9ea9-876f59528697
URL:https://touren-termine.adfc.de/radveranstaltung/187682-gilchinger-feie
 rabendtour
END:VEVENT
END:VCALENDAR
