BEGIN:VCALENDAR
PRODID:-//github.com/rianjs/ical.net//NONSGML ical.net 4.0//EN
VERSION:2.0
BEGIN:VEVENT
DESCRIPTION:30 - 35 km\nhttps://touren-termine.adfc.de/radveranstaltung/14
 2579-kurztour
DTEND:20250416T180000Z
DTSTAMP:20260423T182848Z
DTSTART:20250416T160000Z
LOCATION:Rathaus\, Fuhrberger Straße 3\, 30938 Burgwedel
SEQUENCE:0
SUMMARY:Kurztour
UID:efbf4ec0-cf57-4b24-9fda-837b904450e7
URL:https://touren-termine.adfc.de/radveranstaltung/142579-kurztour
END:VEVENT
END:VCALENDAR
