BEGIN:VCALENDAR
PRODID:-//github.com/rianjs/ical.net//NONSGML ical.net 4.0//EN
VERSION:2.0
BEGIN:VEVENT
DESCRIPTION:Diese Tagestour bietet 2 lohnende Ziele zum Einkehren:\nMittag
 essen im Rittergütl und Kaffee trinken im Café Waldhauser.\nhttps://toure
 n-termine.adfc.de/radveranstaltung/89057-rittergutl-und-cafe-waldhauser
DTEND:20230617T160000Z
DTSTAMP:20260425T150056Z
DTSTART:20230617T080000Z
LOCATION:Marktplatz\, 82205 Gilching
SEQUENCE:0
SUMMARY:Rittergütl und Cafe Waldhauser
UID:de3270ac-75bc-41c1-b711-51e6e864e6c2
URL:https://touren-termine.adfc.de/radveranstaltung/89057-rittergutl-und-c
 afe-waldhauser
END:VEVENT
END:VCALENDAR
