BEGIN:VCALENDAR
PRODID:-//github.com/rianjs/ical.net//NONSGML ical.net 4.0//EN
VERSION:2.0
BEGIN:VEVENT
DESCRIPTION:Nur der ADFC-TourGuide kennt das Ziel-Lass Dich überraschen...
 .\nhttps://touren-termine.adfc.de/radveranstaltung/169183-uberraschungsra
 dtour
DTEND:20250719T133000Z
DTSTAMP:20260424T193602Z
DTSTART:20250719T080000Z
LOCATION:Iserlohn-Barendorf\, 58636 Iserlohn
SEQUENCE:0
SUMMARY:Überraschungs-Radtour
UID:bad7eac0-456c-4652-892e-f58f3498a328
URL:https://touren-termine.adfc.de/radveranstaltung/169183-uberraschungsra
 dtour
END:VEVENT
END:VCALENDAR
