BEGIN:VCALENDAR
PRODID:-//github.com/rianjs/ical.net//NONSGML ical.net 4.0//EN
VERSION:2.0
BEGIN:VEVENT
DESCRIPTION:VuFa: Vorschläge\, Beratungen und Entscheidungen über die Verk
 ehrspolitik in Langenhagen. Tipp: Einwohner:innenfragestunde nutzen!\nhtt
 ps://touren-termine.adfc.de/radveranstaltung/149935-sitzung-verkehrs-u-fe
 uerschutzausschuss-vufa-
DTEND:20250311T200000Z
DTSTAMP:20260424T173224Z
DTSTART:20250311T164500Z
LOCATION:Interimssitzungssaal auf dem IGS-Gelände\, Konrad-Adenauer-Straße
  21 - 23\, 30853 Langenhagen
SEQUENCE:0
SUMMARY:Sitzung: Verkehrs- u. Feuerschutzausschuss VuFa ⓇⓈ
UID:89c5116b-0df4-4f5e-9ca9-1069fae70f76
URL:https://touren-termine.adfc.de/radveranstaltung/149935-sitzung-verkehr
 s-u-feuerschutzausschuss-vufa-
END:VEVENT
END:VCALENDAR
