BEGIN:VCALENDAR
PRODID:-//github.com/rianjs/ical.net//NONSGML ical.net 4.0//EN
VERSION:2.0
BEGIN:VEVENT
DESCRIPTION:Mitgliederversammlung des ADFC Celle\nhttps://touren-termine.a
 dfc.de/radveranstaltung/141307-mitgliederversammlung-des-adfc-celle
DTEND:20250205T200000Z
DTSTAMP:20260421T153305Z
DTSTART:20250205T180000Z
LOCATION:Straßenkamp 4\, 29229 Celle
SEQUENCE:0
SUMMARY:Mitgliederversammlung des ADFC Celle
UID:132a1032-bf45-4ac9-815c-bae2232416a6
URL:https://touren-termine.adfc.de/radveranstaltung/141307-mitgliederversa
 mmlung-des-adfc-celle
END:VEVENT
END:VCALENDAR
