BEGIN:VCALENDAR
PRODID:-//github.com/rianjs/ical.net//NONSGML ical.net 4.0//EN
VERSION:2.0
BEGIN:VEVENT
DESCRIPTION:Unsere Geschäftsstelle ist für alle Anliegen und offenen Frage
 n geöffnet.\nhttps://touren-termine.adfc.de/radveranstaltung/183853-offnu
 ngszeit-unserer-geschaftsstelle
DTEND:20260918T160000Z
DTSTAMP:20260421T115836Z
DTSTART:20260918T140000Z
LOCATION:Essen (Innenstadt)\, ADFC Essen Geschäftsstelle\, Rottstraße 5\, 
 45127 Essen
SEQUENCE:0
SUMMARY:Öffnungszeit unserer Geschäftsstelle
UID:b4770027-d8cb-4440-9b92-1a1401ed54f6
URL:https://touren-termine.adfc.de/radveranstaltung/183853-offnungszeit-un
 serer-geschaftsstelle
END:VEVENT
END:VCALENDAR
