BEGIN:VCALENDAR
PRODID:-//github.com/rianjs/ical.net//NONSGML ical.net 4.0//EN
VERSION:2.0
BEGIN:VEVENT
DESCRIPTION:Über Dietzenbach\, Weiskirchen und Lämmerspiel nach Obertshaus
 en zur Mittagsrast. Der Rückweg führt über Heusenstamm nach Dreieich. Anm
 eldung notwendig.\nhttps://touren-termine.adfc.de/radveranstaltung/144584
 -zum-nachtwachter-in-obertshausen
DTEND:20251102T150000Z
DTSTAMP:20260423T192328Z
DTSTART:20251102T090000Z
LOCATION:Lindenplatz\, 63303 Sprendlingen
SEQUENCE:0
SUMMARY:Zum Nachtwächter in Obertshausen
UID:484f3105-a34d-46d8-8bb4-3d8a306cc9ff
URL:https://touren-termine.adfc.de/radveranstaltung/144584-zum-nachtwachte
 r-in-obertshausen
END:VEVENT
END:VCALENDAR
