BEGIN:VCALENDAR
PRODID:-//github.com/rianjs/ical.net//NONSGML ical.net 4.0//EN
VERSION:2.0
BEGIN:VEVENT
DESCRIPTION:Eine mittelschwere Tour von ca. 40 km mit wenigen Anstiegen.\n
 https://touren-termine.adfc.de/radveranstaltung/161801-halbtagestour-in-d
 as-bimbergtalunna
DTEND:20250405T160000Z
DTSTAMP:20260420T082854Z
DTSTART:20250405T120000Z
LOCATION:Lessingstraße 2\, 59192 Bergkamen
SEQUENCE:0
SUMMARY:Halbtagestour in das Bimbergtal/Unna
UID:a69e9236-df14-48ff-89a1-0adc8bb93f74
URL:https://touren-termine.adfc.de/radveranstaltung/161801-halbtagestour-i
 n-das-bimbergtalunna
END:VEVENT
END:VCALENDAR
