BEGIN:VCALENDAR
PRODID:-//github.com/rianjs/ical.net//NONSGML ical.net 4.0//EN
VERSION:2.0
BEGIN:VEVENT
DESCRIPTION:Unsere Geschäftsstelle ist für alle Anliegen und offenen Frage
 n geöffnet.\nhttps://touren-termine.adfc.de/radveranstaltung/130271-offnu
 ngszeit-unserer-geschaftsstelle
DTEND:20240607T160000Z
DTSTAMP:20260421T120811Z
DTSTART:20240607T140000Z
LOCATION:Essen (Innenstadt)\, ADFC Essen Geschäftsstelle\, Rottstraße 5\, 
 45127 Essen
SEQUENCE:0
SUMMARY:Öffnungszeit unserer Geschäftsstelle
UID:0e1c679c-5e95-48f1-987c-4d660e5e0e24
URL:https://touren-termine.adfc.de/radveranstaltung/130271-offnungszeit-un
 serer-geschaftsstelle
END:VEVENT
END:VCALENDAR
