BEGIN:VCALENDAR
PRODID:-//github.com/rianjs/ical.net//NONSGML ical.net 4.0//EN
VERSION:2.0
BEGIN:VEVENT
DESCRIPTION:Wir genießen den sagenhaften Spreewald. Eine abwechslungsreich
 e Rundwanderung vom Bhf. Lübbenau.\nhttps://touren-termine.adfc.de/radver
 anstaltung/117172-wanderung-durch-den-sagenhaften-spreewald
DTEND:20240114T160000Z
DTSTAMP:20260424T232304Z
DTSTART:20240114T071000Z
LOCATION:Bhf. Zoologischer Garten\,  Gleis 2\, 10623 Berlin
SEQUENCE:0
SUMMARY:WANDERUNG durch den sagenhaften Spreewald
UID:34bd72a6-cb65-45ba-b451-d60ae1d73323
URL:https://touren-termine.adfc.de/radveranstaltung/117172-wanderung-durch
 -den-sagenhaften-spreewald
END:VEVENT
END:VCALENDAR
