BEGIN:VCALENDAR
PRODID:-//github.com/rianjs/ical.net//NONSGML ical.net 4.0//EN
VERSION:2.0
BEGIN:VEVENT
DESCRIPTION:Vor die Belohnung hat der Herrgott den Schweiss gesetzt: Wir s
 tarten um 14:00 Uhr zu einer ca. 30 km-Runde um dann um 16:00 Uhr pünktli
 ch an den reservierten Tischen zu sitzen. Anmeldung erforderlich!\nhttps:
 //touren-termine.adfc.de/radveranstaltung/125178-volksfestrunde
DTEND:20240818T140000Z
DTSTAMP:20260421T100751Z
DTSTART:20240818T120000Z
LOCATION:Bike & Ride Fahrradparkhaus\, 85221 Dachau
SEQUENCE:0
SUMMARY:Volksfestrunde
UID:0b0df65f-830a-498b-9681-0a52d5e23d34
URL:https://touren-termine.adfc.de/radveranstaltung/125178-volksfestrunde
END:VEVENT
END:VCALENDAR
