BEGIN:VCALENDAR
PRODID:-//github.com/rianjs/ical.net//NONSGML ical.net 4.0//EN
VERSION:2.0
BEGIN:VEVENT
DESCRIPTION:Bis zur Umstellung der Sommerzeit\, Ende Oktober\, starten wir
  jeden Dienstag um 18 Uhr vom Hildegardplatz in Kempten zu einer kleinen 
 Feierabendrunde. Wir freuen uns über alte und neue Teilnehmer.\nhttps://t
 ouren-termine.adfc.de/radveranstaltung/159631-feierabendradeln
DTEND:20250513T180000Z
DTSTAMP:20260424T151410Z
DTSTART:20250513T160000Z
LOCATION:Hildegardplatz\, 87435 Kempten (Allgäu)
SEQUENCE:0
SUMMARY:Feierabendradeln
UID:085bcfa2-9fd1-44da-9ec7-9c2d6c7fce35
URL:https://touren-termine.adfc.de/radveranstaltung/159631-feierabendradeln
END:VEVENT
END:VCALENDAR
