BEGIN:VCALENDAR
PRODID:-//github.com/rianjs/ical.net//NONSGML ical.net 4.0//EN
VERSION:2.0
BEGIN:VEVENT
DESCRIPTION:Tagestour\nhttps://touren-termine.adfc.de/radveranstaltung/179
 830-tagestour-emden-und-sudliche-krummhorn
DTEND:20260503T150000Z
DTSTAMP:20260421T102907Z
DTSTART:20260503T080000Z
LOCATION:Folkmar-Allena-Straße 2A\, (LIDL-Parkplatz)\, Wolthusen\,\, 26725
  Emden
SEQUENCE:0
SUMMARY:Tagestour Emden und südliche Krummhörn
UID:97317064-d10f-4e44-b749-e2be67d91ef0
URL:https://touren-termine.adfc.de/radveranstaltung/179830-tagestour-emden
 -und-sudliche-krummhorn
END:VEVENT
END:VCALENDAR
