BEGIN:VCALENDAR
PRODID:-//github.com/rianjs/ical.net//NONSGML ical.net 4.0//EN
VERSION:2.0
BEGIN:VEVENT
DESCRIPTION:Eine abwechslungsreiche Tour\nhttps://touren-termine.adfc.de/r
 adveranstaltung/191801-tour-zum-hofladencafebrotzeitstuberl-kauernheim
DTEND:20260704T150000Z
DTSTAMP:20260425T021729Z
DTSTART:20260704T080000Z
LOCATION:Schauturm im LGS-Gelände \, Dr.-Kurz-Straße\, 92318 Neumarkt in d
 er Oberpfalz
SEQUENCE:0
SUMMARY:Tour zum Hofladen-Cafe-Brotzeitstüberl Kauernheim
UID:a895771c-3a66-4e85-90fd-a9f475dd9abf
URL:https://touren-termine.adfc.de/radveranstaltung/191801-tour-zum-hoflad
 encafebrotzeitstuberl-kauernheim
END:VEVENT
END:VCALENDAR
