BEGIN:VCALENDAR
PRODID:-//github.com/rianjs/ical.net//NONSGML ical.net 4.0//EN
VERSION:2.0
BEGIN:VEVENT
DESCRIPTION:Wir fahren in den Landkreis Stade\, überqueren die Oste\, und 
 dann nach Iselersheim.\nDort haben wir die Möglichkeit das Findorff-Haus 
 zu besichtigen.\nhttps://touren-termine.adfc.de/radveranstaltung/176131-u
 ber-die-oste-nach-iselersheim
DTEND:20260906T130000Z
DTSTAMP:20260421T114935Z
DTSTART:20260906T080000Z
LOCATION:Bahnhof\, 21755 Landkreis Cuxhaven
SEQUENCE:0
SUMMARY:Über die Oste nach Iselersheim
UID:c91b61ba-2f4b-4677-bd7f-0eb3bdfbf6d4
URL:https://touren-termine.adfc.de/radveranstaltung/176131-uber-die-oste-n
 ach-iselersheim
END:VEVENT
END:VCALENDAR
