BEGIN:VCALENDAR
PRODID:-//github.com/rianjs/ical.net//NONSGML ical.net 4.0//EN
VERSION:2.0
BEGIN:VEVENT
DESCRIPTION:Karlsfelder See — Waldschwaigsee — Lussee — Langwieder See und
  Stadtweiher: Mehr Wasser geht auf einer Feierabendtour kaum\; Biergarten
 pause am Langwieder See ist vorgesehen\nhttps://touren-termine.adfc.de/ra
 dveranstaltung/161198-lockere-seenrunde
DTEND:20250528T180000Z
DTSTAMP:20260421T100752Z
DTSTART:20250528T160000Z
LOCATION:Bike & Ride Fahrradparkhaus\, 85221 Dachau
SEQUENCE:0
SUMMARY:lockere Seenrunde
UID:c0a2388a-b614-4c14-81db-942834b4da41
URL:https://touren-termine.adfc.de/radveranstaltung/161198-lockere-seenrun
 de
END:VEVENT
END:VCALENDAR
