BEGIN:VCALENDAR
PRODID:-//github.com/rianjs/ical.net//NONSGML ical.net 4.0//EN
VERSION:2.0
BEGIN:VEVENT
DESCRIPTION:30 - 40 km\nhttps://touren-termine.adfc.de/radveranstaltung/94
 815-kurztour-18oo-203o
DTEND:20230628T180000Z
DTSTAMP:20260423T183754Z
DTSTART:20230628T160000Z
LOCATION:Rathausplatz 3\, 30938 Großburgwedel
SEQUENCE:0
SUMMARY:Kurztour 18.oo - 20.3o
UID:f4c1de09-f4d5-4646-a8ea-f58aefcc7a3b
URL:https://touren-termine.adfc.de/radveranstaltung/94815-kurztour-18oo-20
 3o
END:VEVENT
END:VCALENDAR
