BEGIN:VCALENDAR
PRODID:-//github.com/rianjs/ical.net//NONSGML ical.net 4.0//EN
VERSION:2.0
BEGIN:VEVENT
DESCRIPTION:Das erste Bier wurde im Jahr 1423 in Bernau gebraut. Jetzt gib
 t es wieder eine Brauerei. Wir besuchen diese in Börnicke mit Führung und
  Verkostung. Ende in Seefeld\nhttps://touren-termine.adfc.de/radveranstal
 tung/187655-wanderung-erste-bernauer-braugenossenschaft
DTEND:20260221T160000Z
DTSTAMP:20260421T201507Z
DTSTART:20260221T090000Z
LOCATION:Bhf. Bernau Bahnhofshalle\, 16321 Bernau
SEQUENCE:0
SUMMARY:Wanderung: Erste Bernauer Braugenossenschaft
UID:6c27f90b-0177-4066-9df6-4e711cc58db2
URL:https://touren-termine.adfc.de/radveranstaltung/187655-wanderung-erste
 -bernauer-braugenossenschaft
END:VEVENT
END:VCALENDAR
