BEGIN:VCALENDAR
PRODID:-//github.com/rianjs/ical.net//NONSGML ical.net 4.0//EN
VERSION:2.0
BEGIN:VEVENT
DESCRIPTION:ca. 70 km\, 16-18 km/h\, Start: Partij (NL)\, Hauptstr. N278 (
 Vaals->Maastricht)\, Tankstelle Partij\, 30.05.2026\, 10:30 Uhr. Durch di
 e Limburgische Schweiz nach Maastricht und durch das Geultal zurück.\nhtt
 ps://touren-termine.adfc.de/radveranstaltung/186279-partij-maastricht-par
 tij
DTEND:20260530T140000Z
DTSTAMP:20260420T231347Z
DTSTART:20260530T083000Z
LOCATION:Partijerweg\, 6286 AB Partij
SEQUENCE:0
SUMMARY:Partij - Maastricht - Partij
UID:a35fd1bb-a8b9-491e-8844-ac494b01e8c5
URL:https://touren-termine.adfc.de/radveranstaltung/186279-partij-maastric
 ht-partij
END:VEVENT
END:VCALENDAR
