BEGIN:VCALENDAR
PRODID:-//github.com/rianjs/ical.net//NONSGML ical.net 4.0//EN
VERSION:2.0
BEGIN:VEVENT
DESCRIPTION:Wir radeln bei der Critical Mass in Kaufbeuren für sicheren un
 d alltagstauglichen Radverkehr in Kaufbeuren.\nhttps://touren-termine.adf
 c.de/radveranstaltung/98119-critical-mass-kaufbeuren
DTEND:20230630T171500Z
DTSTAMP:20260419T155934Z
DTSTART:20230630T160000Z
LOCATION:Kaiser-Max-Straße\, 87600 Kaufbeuren
SEQUENCE:0
SUMMARY:Critical Mass Kaufbeuren
UID:d13ae831-52cd-4fee-aa02-f4a8d60ff541
URL:https://touren-termine.adfc.de/radveranstaltung/98119-critical-mass-ka
 ufbeuren
END:VEVENT
END:VCALENDAR
