BEGIN:VCALENDAR
PRODID:-//github.com/rianjs/ical.net//NONSGML ical.net 4.0//EN
VERSION:2.0
BEGIN:VEVENT
DESCRIPTION:Tagestour ab Eglofs über ruhige Nebenstraßen nach Maria Baumgä
 rtle zur Fahrradsegnung mit Rückfahrt durch die Hügellandschaft des Unter
 allgäus.\nhttps://touren-termine.adfc.de/radveranstaltung/191804-nach-mar
 ia-baumgartle-zur-fahrradsegnung
DTEND:20260815T150000Z
DTSTAMP:20260424T152502Z
DTSTART:20260815T080000Z
LOCATION:Eglofs\, 87634 Obergünzburg
SEQUENCE:0
SUMMARY:Nach Maria Baumgärtle zur Fahrradsegnung
UID:5b9e7a9e-d10c-4ab4-8b95-b53ebdf60252
URL:https://touren-termine.adfc.de/radveranstaltung/191804-nach-maria-baum
 gartle-zur-fahrradsegnung
END:VEVENT
END:VCALENDAR
