BEGIN:VCALENDAR
PRODID:-//github.com/rianjs/ical.net//NONSGML ical.net 4.0//EN
VERSION:2.0
BEGIN:VEVENT
DESCRIPTION:Alle Mitglieder*innen und interessierte Bürger*innen sind herz
 lich eingeladen.\nBesprochen werden aktuelle Radthemen\, sowie die erfolg
 ten und geplanten Touren.\nOrt: Imbiss an der Grabowseebrücke!\nhttps://t
 ouren-termine.adfc.de/radveranstaltung/104540-augusttreffen-der-oranienbu
 rger-ortsgruppe
DTEND:20230816T180000Z
DTSTAMP:20260425T200752Z
DTSTART:20230816T160000Z
LOCATION:Grabowseebrücke - Imbiss&Sauna\, 16515 Oranienburg
SEQUENCE:0
SUMMARY:August-Treffen der Oranienburger Ortsgruppe
UID:dce21056-1a50-4e0f-adaa-fa0287d9b056
URL:https://touren-termine.adfc.de/radveranstaltung/104540-augusttreffen-d
 er-oranienburger-ortsgruppe
END:VEVENT
END:VCALENDAR
