BEGIN:VCALENDAR
PRODID:-//github.com/rianjs/ical.net//NONSGML ical.net 4.0//EN
VERSION:2.0
BEGIN:VEVENT
DESCRIPTION:Der Bezirksrat des ADFC Berlin e.V.  ist ein Gremium zur Koord
 inierung für die Tätigkeit der Stadtteilgruppen.\nhttps://touren-termine.
 adfc.de/radveranstaltung/189752-bezirksratssitzung
DTEND:20260924T190000Z
DTSTAMP:20260424T173029Z
DTSTART:20260924T170000Z
LOCATION:Stadtwerkstatt\, Karl-Liebknecht-Straße 11\, 10178 Berlin
SEQUENCE:0
SUMMARY:Bezirksratssitzung
UID:4de4cda9-9e11-45a0-a3f6-faacaf49f457
URL:https://touren-termine.adfc.de/radveranstaltung/189752-bezirksratssitz
 ung
END:VEVENT
END:VCALENDAR
