BEGIN:VCALENDAR
PRODID:-//github.com/rianjs/ical.net//NONSGML ical.net 4.0//EN
VERSION:2.0
BEGIN:VEVENT
DESCRIPTION:Heimat schmecken - regional produzierte Produkte vor Ort genie
 ßen und einkaufen\nhttps://touren-termine.adfc.de/radveranstaltung/155015
 -mit-dem-rad-zum-regiomarkt-in-elsoff
DTEND:20250921T143000Z
DTSTAMP:20260423T064314Z
DTSTART:20250921T093000Z
LOCATION:Bahnhofstraße 1\, 57319 Bad Berleburg
SEQUENCE:0
SUMMARY:Mit dem Rad zum Regio-Markt in Elsoff
UID:e2fc5bda-6679-480d-84fc-c7af81f96666
URL:https://touren-termine.adfc.de/radveranstaltung/155015-mit-dem-rad-zum
 -regiomarkt-in-elsoff
END:VEVENT
END:VCALENDAR
