BEGIN:VCALENDAR
PRODID:-//github.com/rianjs/ical.net//NONSGML ical.net 4.0//EN
VERSION:2.0
BEGIN:VEVENT
DESCRIPTION:Einladung zum nächsten Starnberger Radl-Stammtisch: Mi\, 29.4.
 2026\, 19:30 Uhr\, im La Bagnarota\, Maximilianstr. 2b.\nhttps://touren-t
 ermine.adfc.de/radveranstaltung/198637-radlstammtisch-starnberg
DTEND:20260429T200000Z
DTSTAMP:20260422T212011Z
DTSTART:20260429T173000Z
LOCATION:Maximilianstraße 2B\, 82319 Starnberg
SEQUENCE:0
SUMMARY:Radl-Stammtisch Starnberg
UID:1ab3aa10-4f84-4cd8-9bea-12c77a67b650
URL:https://touren-termine.adfc.de/radveranstaltung/198637-radlstammtisch-
 starnberg
END:VEVENT
END:VCALENDAR
