BEGIN:VCALENDAR
PRODID:-//github.com/rianjs/ical.net//NONSGML ical.net 4.0//EN
VERSION:2.0
BEGIN:VEVENT
DESCRIPTION:Die Tour verläuft zunächst am Neckar\, dann im Bottwar-Tal und
  schließlich von Oberstenfeld über Ilsfeld in einem Bogen nach Heilbronn\
 nhttps://touren-termine.adfc.de/radveranstaltung/172852-von-neckargroning
 en-nach-heilbronn
DTEND:20251109T160000Z
DTSTAMP:20260424T143943Z
DTSTART:20251109T084000Z
LOCATION:Neckartalstraße\, 71686 Landkreis Ludwigsburg
SEQUENCE:0
SUMMARY:Von Neckargröningen nach Heilbronn
UID:2b604481-2eb8-46f5-b8ae-3fdae49e7ecd
URL:https://touren-termine.adfc.de/radveranstaltung/172852-von-neckargroni
 ngen-nach-heilbronn
END:VEVENT
END:VCALENDAR
