BEGIN:VCALENDAR
PRODID:-//github.com/rianjs/ical.net//NONSGML ical.net 4.0//EN
VERSION:2.0
BEGIN:VEVENT
DESCRIPTION:Niemand ist perfekt\, das Radwegesystem in Cuxhaven schon gar 
 nicht!\nWir unterhalten uns über alle Dinge rund ums Fahrrad und nehmen W
 ünsche und Anregungen an.\nhttps://touren-termine.adfc.de/radveranstaltun
 g/114676-kaffeestunde
DTEND:20240108T160000Z
DTSTAMP:20260421T022432Z
DTSTART:20240108T140000Z
LOCATION:Bürgerbahnhof\, Am Bahnhof 1\, 27472 Cuxhaven
SEQUENCE:0
SUMMARY:Kaffeestunde
UID:fb09ef25-7904-404c-bb05-8ff165d7d9ae
URL:https://touren-termine.adfc.de/radveranstaltung/114676-kaffeestunde
END:VEVENT
END:VCALENDAR
