BEGIN:VCALENDAR
PRODID:-//github.com/rianjs/ical.net//NONSGML ical.net 4.0//EN
VERSION:2.0
BEGIN:VEVENT
DESCRIPTION:"Ostspange" kritische Betrachtung des Straßenbauprojektes - di
 e Tour wird entlang der geplanten Trasse verlaufen\, in Cooperation mit d
 er BIWO (Bürgerinitiative Wiesental ohne Ostspange)\nhttps://touren-termi
 ne.adfc.de/radveranstaltung/170512-radtour-an-der-geplanten-strecke-der-o
 stspange
DTEND:20250920T153000Z
DTSTAMP:20260421T102402Z
DTSTART:20250920T123000Z
LOCATION:Nürnberger Tor\, 91301 Forchheim
SEQUENCE:0
SUMMARY:Radtour an der geplanten Strecke der Ostspange
UID:5e5d45c7-8956-4119-a57c-a819573fea3f
URL:https://touren-termine.adfc.de/radveranstaltung/170512-radtour-an-der-
 geplanten-strecke-der-ostspange
END:VEVENT
END:VCALENDAR
